0.014950
0.000000
0.000000
-0.014950
174.258333
-35.491665
