0.014950
0.000000
0.000000
-0.014950
173.933334
-37.966667
