0.014950
0.000000
0.000000
-0.014950
173.966667
-37.924999
