0.014950
0.000000
0.000000
-0.014950
173.408340
-36.066666
