0.014950
0.000000
0.000000
-0.014950
169.416672
-39.366665
