0.014950
0.000000
0.000000
-0.014950
164.875000
-42.166668
