0.014950
0.000000
0.000000
-0.014950
172.075000
-39.333332
