0.014950
0.000000
0.000000
-0.014950
168.133333
-41.083332
