0.014950
0.000000
0.000000
-0.014950
174.916672
-36.266666
