0.014950
0.000000
0.000000
-0.014950
173.558334
-38.025002
