0.014950
0.000000
0.000000
-0.014950
173.183334
-38.458332
