0.014950
0.000000
0.000000
-0.014950
173.016667
-38.508335
