0.014950
0.000000
0.000000
-0.014950
164.441667
-42.616665
