0.014950
0.000000
0.000000
-0.014950
164.783340
-42.616665
