0.014950
0.000000
0.000000
-0.014950
171.633333
-39.208332
