0.014950
0.000000
0.000000
-0.014950
173.358337
-38.116665
