0.014950
0.000000
0.000000
-0.014950
170.566667
-39.583332
