0.014950
0.000000
0.000000
-0.014950
170.250000
-40.991665
