0.014950
0.000000
0.000000
-0.014950
177.016667
-34.474998
