0.014950
0.000000
0.000000
-0.014950
176.708333
-34.400002
