0.014950
0.000000
0.000000
-0.014950
177.158340
-34.633335
