0.014925
0.000000
0.000000
-0.014950
171.175003
-39.775002
