0.014950
0.000000
0.000000
-0.014950
170.816667
-40.049999
