0.014950
0.000000
0.000000
-0.014950
172.500000
-36.525002
