0.014950
0.000000
0.000000
-0.014950
172.475006
-37.941666
