0.014950
0.000000
0.000000
-0.014950
177.033340
-34.916668
