0.014950
0.000000
0.000000
-0.014950
174.116669
-37.775002
