0.014950
0.000000
0.000000
-0.014950
168.566667
-41.191666
