0.049917
0.000000
0.000000
-0.049934
-200.000000
-17.000000
