0.049866
0.000000
0.000000
-0.049854
-197.000000
-31.900000
