0.014950
0.000000
0.000000
-0.014950
164.325000
-42.691666
