0.014950
0.000000
0.000000
-0.014950
163.808334
-42.700001
