0.014950
0.000000
0.000000
-0.014950
164.308334
-42.858334
