0.014950
0.000000
0.000000
-0.014950
171.091667
-39.349998
