0.014946
0.000000
0.000000
-0.014946
171.933334
-38.200001
