0.014925
0.000000
0.000000
-0.014925
170.500000
-37.700001
