0.014950
0.000000
0.000000
-0.014950
169.925003
-40.099998
