0.014950
0.000000
0.000000
-0.014950
169.333333
-40.358334
