0.014950
0.000000
0.000000
-0.014950
169.758333
-38.933334
