0.014950
0.000000
0.000000
-0.014950
174.500000
-36.916668
