0.014950
0.000000
0.000000
-0.014950
162.816667
-44.099998
