0.014950
0.000000
0.000000
-0.014950
164.933334
-42.275002
