0.014950
0.000000
0.000000
-0.014950
176.033340
-36.383335
