0.014950
0.000000
0.000000
-0.014950
163.725006
-43.433334
