0.014950
0.000000
0.000000
-0.014950
163.616669
-42.933334
