0.014950
0.000000
0.000000
-0.014950
169.700000
-41.083332
