0.014925
0.000000
0.000000
-0.014950
174.375000
-35.075001
