0.014950
0.000000
0.000000
-0.014950
170.225006
-41.041668
