0.014950
0.000000
0.000000
-0.014950
170.258333
-41.083332
