0.014950
0.000000
0.000000
-0.014950
164.200000
-42.708332
